Workbook

Sheet Export Summary
B3: This document was exported from Numbers. Each table was converted to an Excel worksheet. All other objects on each Numbers sheet were placed on separate worksheets. Please be aware that formula calculations may differ in Excel.
B7: Numbers Sheet Name | C7: Numbers Table Name | D7: Excel Worksheet Name
B9: Template Grid
C10: Box 1 | D10: Template Grid - Box 1
C11: Box Sizes and Paper size needed | D11: Template Grid - Box Sizes and P
B12: Side 1 Example
C13: All Depth = 14 | D13: Side 1 Example - All Depth = 14
C14: Table 2 | D14: Side 1 Example - Table 2
B15: Side 2 Example
C16: All Depth = 14 | D16: Side 2 Example - All Depth = 14
C17: All Boxes needed | D17: Side 2 Example - All Boxes need

Sheet Grid template
A1: Box 1
A2: Depth | C2: Width
A3: 0 | C3: 1 | D3: 2 | E3: 3 | F3: 4 | G3: 5 | H3: 6 | I3: 7 | J3: 8 | K3: 9 | L3: 10 | M3: 11 | N3: 12 | O3: 13 | P3: 14 | Q3: 15 | R3: 16 | S3: 17 | T3: 18 | U3: 19 | V3: 20 | W3: 21 | X3: 22 | Y3: 23 | Z3: 24 | AA3: 25
A4: Height | B4: 1
B5: 2
B6: 3
B7: 4
B8: 5
B9: 6
B10: 7
B11: 8
B12: 9
B13: 10
B14: 11
B15: 12
B16: 13
... B33: 30

Sheet Paper Sizes table
A1: Box Sizes and Paper size needed
A2: Box Side | B2: Enter Width | C2: Depth taken from cell A3 | D2: Enter Height | E2: Tray paper W | F2: Tray paper L | G2: Lid paper W | H2: Lid paper L | I2: Made?
A3: Box 1 | C3: {='Grid template'!A$3} -> 0 | E3: {=C3+D3+D3} -> 0 | F3: {=D3+D3+B3} -> 0 | G3: {=C3+D3+1} -> 1 | H3: {=D3+D3+B3} -> 0
A4: Box 1 | C4: {='Grid template'!A$3} -> 0 | E4: {=C4+D4+D4} -> 0 | F4: {=D4+D4+B4} -> 0 | G4: {=C4+D4+1} -> 1 | H4: {=D4+D4+B4} -> 0
A5: Box 1 | C5: {='Grid template'!A$3} -> 0 | E5: {=C5+D5+D5} -> 0 | F5: {=D5+D5+B5} -> 0 | G5: {=C5+D5+1} -> 1 | H5: {=D5+D5+B5} -> 0
A6: Box 1 | C6: {='Grid template'!A$3} -> 0 | E6: {=C6+D6+D6} -> 0 | F6: {=D6+D6+B6} -> 0 | G6: {=C6+D6+1} -> 1 | H6: {=D6+D6+B6} -> 0
A7: Box 1 | C7: {='Grid template'!A$3} -> 0 | E7: {=C7+D7+D7} -> 0 | F7: {=D7+D7+B7} -> 0 | G7: {=C7+D7+1} -> 1 | H7: {=D7+D7+B7} -> 0
A8: Box 1 | C8: {='Grid template'!A$3} -> 0 | E8: {=C8+D8+D8} -> 0 | F8: {=D8+D8+B8} -> 0 | G8: {=C8+D8+1} -> 1 | H8: {=D8+D8+B8} -> 0
A9: Box 1 | C9: {='Grid template'!A$3} -> 0 | E9: {=C9+D9+D9} -> 0 | F9: {=D9+D9+B9} -> 0 | G9: {=C9+D9+1} -> 1 | H9: {=D9+D9+B9} -> 0
A10: Box 1 | C10: {='Grid template'!A$3} -> 0 | E10: {=C10+D10+D10} -> 0 | F10: {=D10+D10+B10} -> 0 | G10: {=C10+D10+1} -> 1 | H10: {=D10+D10+B10} -> 0
A11: Box 1 | C11: {='Grid template'!A$3} -> 0 | E11: {=C11+D11+D11} -> 0 | F11: {=D11+D11+B11} -> 0 | G11: {=C11+D11+1} -> 1 | H11: {=D11+D11+B11} -> 0
A12: Box 1 | C12: {='Grid template'!A$3} -> 0 | E12: {=C12+D12+D12} -> 0 | F12: {=D12+D12+B12} -> 0 | G12: {=C12+D12+1} -> 1 | H12: {=D12+D12+B12} -> 0
A13: Box 1 | C13: {='Grid template'!A$3} -> 0 | E13: {=C13+D13+D13} -> 0 | F13: {=D13+D13+B13} -> 0 | G13: {=C13+D13+1} -> 1 | H13: {=D13+D13+B13} -> 0
A14: Box 1 | C14: {='Grid template'!A$3} -> 0 | E14: {=C14+D14+D14} -> 0 | F14: {=D14+D14+B14} -> 0 | G14: {=C14+D14+1} -> 1 | H14: {=D14+D14+B14} -> 0
... A26: Box 2 | C26: {='Grid template'!A$3} -> 0 | E26: {=C26+D26+D26} -> 0 | F26: {=D26+D26+B26} -> 0 | G26: {=C26+D26+1} -> 1 | H26: {=D26+D26+B26} -> 0

Sheet Side 1 Grid Example
A1: All Depth = 14
B2: 1 | C2: 2 | D2: 3 | E2: 4 | F2: 5 | G2: 6 | H2: 7 | I2: 8 | J2: 9 | K2: 10 | L2: 11 | M2: 12 | N2: 13 | O2: 14 | P2: 15 | Q2: 16 | R2: 17 | S2: 18 | T2: 19 | U2: 20 | V2: 21 | W2: 22 | X2: 23 | Y2: 24 | Z2: 25
A3: 1
A4: 2
A5: 3
A6: 4 | E6: Width | F6: Depth | G6: Height
A7: 5 | E7: 12 | F7: 14 | G7: 8
A8: 6 | R8: 12 | S8: 14 | T8: 8
A9: 7
A10: 8
A11: 9
A12: 10
A13: 11 | E13: Width | F13: Depth | G13: Height | K13: Width | L13: Depth | M13: Height
A14: 12 | E14: 7 | F14: 14 | G14: 5 | K14: 6 | L14: 14 | M14: 5 | P14: 6 | Q14: 14 | R14: 5 | V14: 6 | W14: 14 | X14: 5
A15: 13
A16: 14
A17: 15
A18: 16
A19: 17 | E19: Width | F19: Depth | G19: Height
A20: 18 | E20: 12 | F20: 14 | G20: 8
A21: 19 | R21: 12 | S21: 14 | T21: 8
A22: 20
A23: 21
A24: 22
A25: 23
A26: 24 | E26: Width | F26: Depth | G26: Height | K26: Width | L26: Depth | M26: Height
A27: 25 | E27: 7 | F27: 14 | G27: 8 | K27: 6 | L27: 14 | M27: 5 | P27: 6 | Q27: 14 | R27: 8 | V27: 6 | W27: 14 | X27: 8
A28: 26
A29: 27
A30: 28
A31: 29
A32: 30

Sheet Paper needed table example
A1: All Boxes needed
A2: W | B2: D | C2: H | D2: Tray Max | E2: Tray 2 | F2: Lid Max | G2: Lid 2 | H2: Made?
A3: 3 | B3: 14 | C3: 5 | D3: {=B3+C3+C3} -> 24 | E3: {=C3+C3+A3} -> 13 | F3: {=B3+C3+1} -> 20 | G3: {=C3+C3+A3} -> 13 | H3: Y
A4: 4 | B4: 14 | C4: 5 | D4: {=B4+C4+C4} -> 24 | E4: {=C4+C4+A4} -> 14 | F4: {=B4+C4+1} -> 20 | G4: {=C4+C4+A4} -> 14 | H4: Y
A5: 6 | B5: 14 | C5: 5 | D5: {=B5+C5+C5} -> 24 | E5: {=C5+C5+A5} -> 16 | F5: {=B5+C5+1} -> 20 | G5: {=C5+C5+A5} -> 16 | H5: Y
A6: 6 | B6: 14 | C6: 5 | D6: {=B6+C6+C6} -> 24 | E6: {=C6+C6+A6} -> 16 | F6: {=B6+C6+1} -> 20 | G6: {=C6+C6+A6} -> 16 | H6: Y
A7: 6 | B7: 14 | C7: 5 | D7: {=B7+C7+C7} -> 24 | E7: {=C7+C7+A7} -> 16 | F7: {=B7+C7+1} -> 20 | G7: {=C7+C7+A7} -> 16 | H7: Y
A8: 6 | B8: 14 | C8: 5 | D8: {=B8+C8+C8} -> 24 | E8: {=C8+C8+A8} -> 16 | F8: {=B8+C8+1} -> 20 | G8: {=C8+C8+A8} -> 16 | H8: Y
A9: 6 | B9: 14 | C9: 5 | D9: {=B9+C9+C9} -> 24 | E9: {=C9+C9+A9} -> 16 | F9: {=B9+C9+1} -> 20 | G9: {=C9+C9+A9} -> 16 | H9: Y
A10: 6 | B10: 14 | C10: 5 | D10: {=B10+C10+C10} -> 24 | E10: {=C10+C10+A10} -> 16 | F10: {=B10+C10+1} -> 20 | G10: {=C10+C10+A10} -> 16
A11: 6 | B11: 14 | C11: 5 | D11: {=B11+C11+C11} -> 24 | E11: {=C11+C11+A11} -> 16 | F11: {=B11+C11+1} -> 20 | G11: {=C11+C11+A11} -> 16
A12: 6 | B12: 14 | C12: 5 | D12: {=B12+C12+C12} -> 24 | E12: {=C12+C12+A12} -> 16 | F12: {=B12+C12+1} -> 20 | G12: {=C12+C12+A12} -> 16
A13: 7 | B13: 14 | C13: 5 | D13: {=B13+C13+C13} -> 24 | E13: {=C13+C13+A13} -> 17 | F13: {=B13+C13+1} -> 20 | G13: {=C13+C13+A13} -> 17 | H13: Y
A14: 7 | B14: 14 | C14: 5 | D14: {=B14+C14+C14} -> 24 | E14: {=C14+C14+A14} -> 17 | F14: {=B14+C14+1} -> 20 | G14: {=C14+C14+A14} -> 17 | H14: Y
A15: 7 | B15: 14 | C15: 5 | D15: {=B15+C15+C15} -> 24 | E15: {=C15+C15+A15} -> 17 | F15: {=B15+C15+1} -> 20 | G15: {=C15+C15+A15} -> 17
A16: 7 | B16: 14 | C16: 5 | D16: {=B16+C16+C16} -> 24 | E16: {=C16+C16+A16} -> 17 | F16: {=B16+C16+1} -> 20 | G16: {=C16+C16+A16} -> 17 | H16: Y
A17: 8 | B17: 14 | C17: 5 | D17: {=B17+C17+C17} -> 24 | E17: {=C17+C17+A17} -> 18 | F17: {=B17+C17+1} -> 20 | G17: {=C17+C17+A17} -> 18 | H17: Y
A18: 9 | B18: 14 | C18: 5 | D18: {=B18+C18+C18} -> 24 | E18: {=C18+C18+A18} -> 19 | F18: {=B18+C18+1} -> 20 | G18: {=C18+C18+A18} -> 19 | H18: Y
A19: 12 | B19: 14 | C19: 8 | D19: {=B19+C19+C19} -> 30 | E19: {=C19+C19+A19} -> 28 | F19: {=B19+C19+1} -> 23 | G19: {=C19+C19+A19} -> 28
A20: 12 | B20: 14 | C20: 8 | D20: {=B20+C20+C20} -> 30 | E20: {=C20+C20+A20} -> 28 | F20: {=B20+C20+1} -> 23 | G20: {=C20+C20+A20} -> 28
A21: 12 | B21: 14 | C21: 8 | D21: {=B21+C21+C21} -> 30 | E21: {=C21+C21+A21} -> 28 | F21: {=B21+C21+1} -> 23 | G21: {=C21+C21+A21} -> 28
A22: 12 | B22: 14 | C22: 8 | D22: {=B22+C22+C22} -> 30 | E22: {=C22+C22+A22} -> 28 | F22: {=B22+C22+1} -> 23 | G22: {=C22+C22+A22} -> 28
A23: 12 | B23: 14 | C23: 8 | D23: {=B23+C23+C23} -> 30 | E23: {=C23+C23+A23} -> 28 | F23: {=B23+C23+1} -> 23 | G23: {=C23+C23+A23} -> 28
A24: 12 | B24: 14 | C24: 8 | D24: {=B24+C24+C24} -> 30 | E24: {=C24+C24+A24} -> 28 | F24: {=B24+C24+1} -> 23 | G24: {=C24+C24+A24} -> 28
A25: 12 | B25: 14 | C25: 8 | D25: {=B25+C25+C25} -> 30 | E25: {=C25+C25+A25} -> 28 | F25: {=B25+C25+1} -> 23 | G25: {=C25+C25+A25} -> 28
A26: 12 | B26: 14 | C26: 8 | D26: {=B26+C26+C26} -> 30 | E26: {=C26+C26+A26} -> 28 | F26: {=B26+C26+1} -> 23 | G26: {=C26+C26+A26} -> 28
